BEGIN:VCALENDAR
VERSION:2.0
PRODID:-//Revista Literaria Poetas y Escritores Miami - ECPv6.15.15//NONSGML v1.0//EN
CALSCALE:GREGORIAN
METHOD:PUBLISH
X-ORIGINAL-URL:https://poetasyescritoresmiami.com
X-WR-CALDESC:Eventos para Revista Literaria Poetas y Escritores Miami
REFRESH-INTERVAL;VALUE=DURATION:PT1H
X-Robots-Tag:noindex
X-PUBLISHED-TTL:PT1H
BEGIN:VTIMEZONE
TZID:America/New_York
BEGIN:DAYLIGHT
TZOFFSETFROM:-0500
TZOFFSETTO:-0400
TZNAME:EDT
DTSTART:20220313T070000
END:DAYLIGHT
BEGIN:STANDARD
TZOFFSETFROM:-0400
TZOFFSETTO:-0500
TZNAME:EST
DTSTART:20221106T060000
END:STANDARD
BEGIN:DAYLIGHT
TZOFFSETFROM:-0500
TZOFFSETTO:-0400
TZNAME:EDT
DTSTART:20230312T070000
END:DAYLIGHT
BEGIN:STANDARD
TZOFFSETFROM:-0400
TZOFFSETTO:-0500
TZNAME:EST
DTSTART:20231105T060000
END:STANDARD
BEGIN:DAYLIGHT
TZOFFSETFROM:-0500
TZOFFSETTO:-0400
TZNAME:EDT
DTSTART:20240310T070000
END:DAYLIGHT
BEGIN:STANDARD
TZOFFSETFROM:-0400
TZOFFSETTO:-0500
TZNAME:EST
DTSTART:20241103T060000
END:STANDARD
END:VTIMEZONE
BEGIN:VEVENT
DTSTART;VALUE=DATE:20230727
DTEND;VALUE=DATE:20230731
DTSTAMP:20260422T123625
CREATED:20230702T172545Z
LAST-MODIFIED:20230702T173833Z
UID:8173-1690416000-1690761599@poetasyescritoresmiami.com
SUMMARY:3er Hispanic Heritage Book Fair en Carolina del Norte\, 2023
DESCRIPTION:¡Ven y celebra la cultura\, arte y literatura latina en el 3er Hispanic Heritage Book Fair en Carolina del Norte!\nMilibrohispano en alianza con El Centro Hispano invitan a la comunidad a participar de este gran evento gratuito para todas las edades. \n\nFeria de libros\nPresentaciones de autores\nCuentacuentos\nManualidades\nArtesanías\nMúsica\nDanza\nComidas tradicionales\n¡Y mucho más!\n\nDel jueves 27 al domingo 30 de julio en las ciudades de Durham\, Henderson y Apex\, NC\n¡¡EVENTO GRATUITO!! – Reserva tus tickets SIN COSTO \nSíguenos en las redes sociales o visita el sítio web www.milibrohispano.org para enterarte de la agenda de actividades y los autores que estarán firmando sus libros y compartiendo con los amantes de la lectura. \n¡ADEMÁS! CONTIGO DE REGRESO A CLASES \nCon el apoyo de City of Durham Parks & Recreation se ofrecerán útiles escolares sin costo\, exámenes de visión\, literatura y entretenimiento. Un programa ideal para que las familias se preparen para el regreso a clases. \n¡¡EVENTO GRATUITO!! – Reserva tus tickets SIN COSTO y suscríbete para recibir información de este y otros programas disponibles para la comunidad. \n\n¿Eres autor y deseas participar con Milibrohispano en éste y otros eventos? Envía un correo a membrecias@milibrohispano.org o visita este enlace para conocer más detalles.
URL:https://poetasyescritoresmiami.com/event/3er-hispanic-heritage-book-fair-north-carolina-2023/
CATEGORIES:Ferias y presentaciones
ATTACH;FMTTYPE=image/png:https://poetasyescritoresmiami.com/wp-content/uploads/2023/07/Promos-HHBF-North-Carolina-Varios.png
END:VEVENT
END:VCALENDAR