BEGIN:VCALENDAR
VERSION:2.0
PRODID:-//Revista Literaria Poetas y Escritores Miami - ECPv6.15.15//NONSGML v1.0//EN
CALSCALE:GREGORIAN
METHOD:PUBLISH
X-WR-CALNAME:Revista Literaria Poetas y Escritores Miami
X-ORIGINAL-URL:https://poetasyescritoresmiami.com
X-WR-CALDESC:Eventos para Revista Literaria Poetas y Escritores Miami
REFRESH-INTERVAL;VALUE=DURATION:PT1H
X-Robots-Tag:noindex
X-PUBLISHED-TTL:PT1H
BEGIN:VTIMEZONE
TZID:America/New_York
BEGIN:DAYLIGHT
TZOFFSETFROM:-0500
TZOFFSETTO:-0400
TZNAME:EDT
DTSTART:20230312T070000
END:DAYLIGHT
BEGIN:STANDARD
TZOFFSETFROM:-0400
TZOFFSETTO:-0500
TZNAME:EST
DTSTART:20231105T060000
END:STANDARD
BEGIN:DAYLIGHT
TZOFFSETFROM:-0500
TZOFFSETTO:-0400
TZNAME:EDT
DTSTART:20240310T070000
END:DAYLIGHT
BEGIN:STANDARD
TZOFFSETFROM:-0400
TZOFFSETTO:-0500
TZNAME:EST
DTSTART:20241103T060000
END:STANDARD
BEGIN:DAYLIGHT
TZOFFSETFROM:-0500
TZOFFSETTO:-0400
TZNAME:EDT
DTSTART:20250309T070000
END:DAYLIGHT
BEGIN:STANDARD
TZOFFSETFROM:-0400
TZOFFSETTO:-0500
TZNAME:EST
DTSTART:20251102T060000
END:STANDARD
END:VTIMEZONE
BEGIN:VEVENT
DTSTART;VALUE=DATE:20240920
DTEND;VALUE=DATE:20240923
DTSTAMP:20260421T063953
CREATED:20240820T214909Z
LAST-MODIFIED:20240820T214909Z
UID:9455-1726790400-1727049599@poetasyescritoresmiami.com
SUMMARY:Hispanic Heritage Book Fair / Milibrohispano\, 2024
DESCRIPTION:¡ATENCIÓN! ✨ ¡RESERVA LAS FECHAS! 🥳 \n¡Celebra con nosotros el arte\, la música\, la comida y la literatura de nuestra Herencia Hispana! \n✨ 7th annual Hispanic Heritage Book Fair / Milibrohispano 2024\n🗓️ Viernes 20 de septiembre (5pm a 9 pm) / Sábado 21 y domingo 22 de septiembre (11 am a 5 pm)\n📍 Westchester Cultural Arts Center / 7930 SW 40th St Miami\, FL 33155 \nTe invitamos a descubrir una gran selección de libros en español\, inglés y bilingües para todas las edades.\nTendrás la oportunidad de conocer autores locales e internacionales y disfrutar de una nutrida agenda con exposiciones de arte\, música\, teatro y poesía. \nPodrás deleitarte con la gastronomía tradicional y participar en actividades de lectura y manualidades para grandes y chicos. ¡No te puedes perder este divertido evento gratuito para toda la familia! \n¡Los esperamos!
URL:https://poetasyescritoresmiami.com/event/hispanic-heritage-book-fair-milibrohispano-2024/
LOCATION:Westchester Cultural Arts Center\, 7930 SW 40th St\, Miami\, Florida\, 33155\, Estados Unidos
CATEGORIES:Ferias y presentaciones
ATTACH;FMTTYPE=image/png:https://poetasyescritoresmiami.com/wp-content/uploads/2024/08/HHBF-2024-Westchester-V-Spanish.png
END:VEVENT
END:VCALENDAR