BEGIN:VCALENDAR
VERSION:2.0
PRODID:-//Revista Literaria Poetas y Escritores Miami - ECPv6.15.15//NONSGML v1.0//EN
CALSCALE:GREGORIAN
METHOD:PUBLISH
X-WR-CALNAME:Revista Literaria Poetas y Escritores Miami
X-ORIGINAL-URL:https://poetasyescritoresmiami.com
X-WR-CALDESC:Eventos para Revista Literaria Poetas y Escritores Miami
REFRESH-INTERVAL;VALUE=DURATION:PT1H
X-Robots-Tag:noindex
X-PUBLISHED-TTL:PT1H
BEGIN:VTIMEZONE
TZID:America/New_York
BEGIN:DAYLIGHT
TZOFFSETFROM:-0500
TZOFFSETTO:-0400
TZNAME:EDT
DTSTART:20230312T070000
END:DAYLIGHT
BEGIN:STANDARD
TZOFFSETFROM:-0400
TZOFFSETTO:-0500
TZNAME:EST
DTSTART:20231105T060000
END:STANDARD
BEGIN:DAYLIGHT
TZOFFSETFROM:-0500
TZOFFSETTO:-0400
TZNAME:EDT
DTSTART:20240310T070000
END:DAYLIGHT
BEGIN:STANDARD
TZOFFSETFROM:-0400
TZOFFSETTO:-0500
TZNAME:EST
DTSTART:20241103T060000
END:STANDARD
BEGIN:DAYLIGHT
TZOFFSETFROM:-0500
TZOFFSETTO:-0400
TZNAME:EDT
DTSTART:20250309T070000
END:DAYLIGHT
BEGIN:STANDARD
TZOFFSETFROM:-0400
TZOFFSETTO:-0500
TZNAME:EST
DTSTART:20251102T060000
END:STANDARD
END:VTIMEZONE
BEGIN:VEVENT
DTSTART;VALUE=DATE:20241107
DTEND;VALUE=DATE:20241110
DTSTAMP:20260421T113146
CREATED:20241003T173303Z
LAST-MODIFIED:20241003T173303Z
UID:9724-1730937600-1731196799@poetasyescritoresmiami.com
SUMMARY:4ta Edición del Hispanic Heritage Book Fair\, North Carolina 2024
DESCRIPTION:Nota de Prensa \nPARA PUBLICACIÓN INMEDIATA\nmedia@elcentronc.org \nEl Centro Hispano y Milibrohispano presentan la 4ta Edición del Hispanic Heritage Book Fair\, North Carolina 2024 \n¡Vuelve a Carolina del Norte la 4ta edición del Hispanic Heritage Book Fair\, que en 2024 se celebrará del 7 al 9 de noviembre! Este evento reunirá a amantes de la literatura\, el arte y el emprendimiento para celebrar la diversidad cultural y el bilingüismo. \n\nDurham\, NC – Octubre 3\, 2024 — El Centro Hispano junto a Hispanic Heritage Literature Organization/Milibrohispano\, anuncian la realización de la 4ta edición del Hispanic Heritage Book Fair\, 2024; que se llevará a cabo del 7 al 9 de noviembre de 2024 en Carolina del Norte. Este evento internacional celebra la diversidad cultural y el bilingüismo\, promoviendo el intercambio intercultural y destacando la herencia literaria\, artística y emprendedora del mundo hispano. \nLas actividades principales inician con talleres y conversatorios el jueves 7 de noviembre en la Universidad de Duke\, dirigidos a estudiantes y profesores. El viernes 8 de noviembre\, varios autores visitarán escuelas y universidades\, facilitando un diálogo enriquecedor entre escritores y jóvenes estudiantes. Finalmente\, el sábado 9 de noviembre se llevará a cabo la feria de libros y una jornada de lecturas en el Marbles Museum\, actividad abierta a toda la comunidad\, para disfrutar de un día lleno de cultura\, literatura y convivencia. \nLa feria contará con la participación de autores locales e internacionales\, abarcando géneros que incluyen desde literatura infanto-juvenil hasta narrativa\, poesía y teatro\, así como la colaboración de artistas visuales locales. \n«Para El Centro Hispano\, es un honor presentar a la comunidad la 4ta edición del Hispanic Heritage Book Fair 2024«\, expresó Ethel Vandergriff\, Gerente del Departamento de Educación de la organización. «Este evento no solo impulsa la lectura\, la creatividad y la educación\, sino que también crea puentes entre los autores hispanos y la comunidad\, promoviendo un intercambio cultural sumamente enriquecedor. Este tipo de diálogo no solo fomenta la empatía\, sino que también fortalece nuestro compromiso colectivo hacia la construcción de un mundo más inclusivo y pacífico\, algo urgente en los tiempos que vivimos. Estamos convencidos de que esta feria será una fuente de inspiración para la comunidad latina y más allá»\, concluyó Vandergriff. \nPor su parte\, Pilar Vélez\, presidenta de Milibrohispano\, indica: «La 4ta Edición del Hispanic Heritage Book Fair en Carolina del Norte es más que una feria de libros; es un espacio de encuentro\, crecimiento y celebración de nuestra herencia hispana. Gracias a la valiosa alianza con El Centro Hispano y la colaboración de Duke University\, hemos creado un evento que no solo incluye a los hispanos\, sino que invita a otras culturas\, consolidándose como una feria de carácter internacional. Esta feria fomenta el intercambio cultural y el bilingüismo\, fortaleciendo una comunidad dinámica como la de Carolina del Norte». \nConvocatoria para autores\, patrocinadores y escuelas: \n\nAutores: Los escritores interesados en participar pueden inscribirse para presentar y vender sus libros a través de este enlace. Contacto para inscripciones de autores: Membrecias@milibrohispano.org.\nPatrocinadores: Empresas y organizaciones tienen la oportunidad de promover su marca y demostrar su compromiso con la cultura y la educación. Contacto para patrocinadores: evandergriff@elcentronc.org.\nEscuelas: Invitamos a las escuelas a registrarse para recibir visitas de autores o planificar una visita a la feria. Registro para escuelas.\n\nSobre el Evento: \nEl Hispanic Heritage Book Fair no es solo una feria de libros\, sino una celebración de las artes visuales\, la música\, la danza\, la gastronomía y el emprendimiento hispano. Se presentarán libros en español\, inglés y ediciones bilingües\, y habrá actividades para toda la familia. \n¡Únete a nosotros en esta celebración de la palabra escrita y la cultura hispana!\nPara más información\, visita: HHBookFair.org \nFechas: 7\, 8 y 9 de noviembre de 2024\nLugares: Universidad de Duke\, escuelas locales y Marbles Museum \n \n\nSobre El Centro Hispano: \nEl Centro Hispano es una organización sin ánimo de lucro dedicada a fortalecer la comunidad\, construir puentes y promover la equidad e inclusión. \nPara consultas de medios\, contactar a: media@elcentronc.org o (919) 601-3201 \n¡Te esperamos para celebrar nuestra herencia y cultura hispana a través de la palabra escrita y las artes! Visita: North Carolina (hhbookfair.org)
URL:https://poetasyescritoresmiami.com/event/4ta-edicion-del-hispanic-heritage-book-fair-north-carolina-2024/
CATEGORIES:Ferias y presentaciones
END:VEVENT
END:VCALENDAR